Package: sevenC Version: 1.30.0 Command: /home/biocbuild/R/R/bin/R CMD INSTALL sevenC StartedAt: 2025-11-13 21:35:17 -0000 (Thu, 13 Nov 2025) EndedAt: 2025-11-13 21:35:46 -0000 (Thu, 13 Nov 2025) EllapsedTime: 29.1 seconds RetCode: 0 Status: OK