Package: sevenC Version: 1.30.0 Command: /home/biocbuild/R/R/bin/R CMD check --install=check:sevenC.install-out.txt --library=/home/biocbuild/R/R/site-library --no-vignettes --timings sevenC_1.30.0.tar.gz StartedAt: 2025-11-14 14:39:29 -0000 (Fri, 14 Nov 2025) EndedAt: 2025-11-14 14:46:20 -0000 (Fri, 14 Nov 2025) EllapsedTime: 411.9 seconds RetCode: 0 Status: OK CheckDir: sevenC.Rcheck Warnings: 0