Package: sevenC Version: 1.30.0 Command: /home/biocbuild/bbs-3.22-bioc/R/bin/R CMD INSTALL sevenC StartedAt: 2025-11-09 15:27:15 -0500 (Sun, 09 Nov 2025) EndedAt: 2025-11-09 15:27:38 -0500 (Sun, 09 Nov 2025) EllapsedTime: 22.8 seconds RetCode: 0 Status: OK