Package: sevenC Version: 1.30.0 Command: /home/biocbuild/bbs-3.22-bioc/R/bin/R CMD check --install=check:sevenC.install-out.txt --library=/home/biocbuild/bbs-3.22-bioc/R/site-library --timings sevenC_1.30.0.tar.gz StartedAt: 2025-11-10 04:16:33 -0500 (Mon, 10 Nov 2025) EndedAt: 2025-11-10 04:20:58 -0500 (Mon, 10 Nov 2025) EllapsedTime: 264.3 seconds RetCode: 0 Status: OK CheckDir: sevenC.Rcheck Warnings: 0