Package: seqcombo Version: 1.32.0 Command: /home/biocbuild/R/R/bin/R CMD INSTALL seqcombo StartedAt: 2025-11-13 21:11:08 -0000 (Thu, 13 Nov 2025) EndedAt: 2025-11-13 21:11:48 -0000 (Thu, 13 Nov 2025) EllapsedTime: 40.3 seconds RetCode: 0 Status: OK