Package: seqcombo Version: 1.32.0 Command: /home/biocbuild/R/R/bin/R CMD check --install=check:seqcombo.install-out.txt --library=/home/biocbuild/R/R/site-library --no-vignettes --timings seqcombo_1.32.0.tar.gz StartedAt: 2025-11-14 14:36:44 -0000 (Fri, 14 Nov 2025) EndedAt: 2025-11-14 14:37:50 -0000 (Fri, 14 Nov 2025) EllapsedTime: 66.1 seconds RetCode: 0 Status: OK CheckDir: seqcombo.Rcheck Warnings: 0