Package: seqcombo Version: 1.32.0 Command: /home/biocbuild/bbs-3.22-bioc/R/bin/R CMD INSTALL seqcombo StartedAt: 2025-11-06 15:07:12 -0500 (Thu, 06 Nov 2025) EndedAt: 2025-11-06 15:07:22 -0500 (Thu, 06 Nov 2025) EllapsedTime: 10.2 seconds RetCode: 0 Status: OK