Package: seqCAT Version: 1.30.0 Command: /Library/Frameworks/R.framework/Resources/bin/R CMD INSTALL seqCAT StartedAt: 2025-10-13 16:14:55 -0400 (Mon, 13 Oct 2025) EndedAt: 2025-10-13 16:16:12 -0400 (Mon, 13 Oct 2025) EllapsedTime: 77.0 seconds RetCode: 0 Status: OK