Package: seqCAT Version: 1.30.0 Command: /Library/Frameworks/R.framework/Resources/bin/R CMD build --keep-empty-dirs --no-resave-data seqCAT StartedAt: 2025-10-14 09:17:46 -0400 (Tue, 14 Oct 2025) EndedAt: 2025-10-14 09:19:37 -0400 (Tue, 14 Oct 2025) EllapsedTime: 111.2 seconds RetCode: 0 Status: OK PackageFile: seqCAT_1.30.0.tar.gz PackageFileSize: 1.897 MiB