Package: seqArchR Version: 1.14.0 Command: /home/biocbuild/bbs-3.22-bioc/R/bin/R CMD INSTALL seqArchR StartedAt: 2025-11-06 15:24:08 -0500 (Thu, 06 Nov 2025) EndedAt: 2025-11-06 15:24:25 -0500 (Thu, 06 Nov 2025) EllapsedTime: 16.8 seconds RetCode: 0 Status: OK