Package: seqArchR Version: 1.14.0 Command: /home/biocbuild/bbs-3.22-bioc/R/bin/R CMD check --install=check:seqArchR.install-out.txt --library=/home/biocbuild/bbs-3.22-bioc/R/site-library --timings seqArchR_1.14.0.tar.gz StartedAt: 2025-11-07 03:58:47 -0500 (Fri, 07 Nov 2025) EndedAt: 2025-11-07 04:01:24 -0500 (Fri, 07 Nov 2025) EllapsedTime: 157.2 seconds RetCode: 1 Status: ERROR CheckDir: seqArchR.Rcheck Warnings: NA