Package: seqArchR Version: 1.14.0 Command: /Library/Frameworks/R.framework/Resources/bin/R CMD INSTALL seqArchR StartedAt: 2025-11-06 15:08:53 -0500 (Thu, 06 Nov 2025) EndedAt: 2025-11-06 15:09:00 -0500 (Thu, 06 Nov 2025) EllapsedTime: 6.8 seconds RetCode: 0 Status: OK