Package: seqArchR Version: 1.14.0 Command: /Library/Frameworks/R.framework/Resources/bin/R CMD check --install=check:seqArchR.install-out.txt --library=/Library/Frameworks/R.framework/Resources/library --no-vignettes --timings seqArchR_1.14.0.tar.gz StartedAt: 2025-11-06 22:04:01 -0500 (Thu, 06 Nov 2025) EndedAt: 2025-11-06 22:05:00 -0500 (Thu, 06 Nov 2025) EllapsedTime: 58.9 seconds RetCode: 1 Status: ERROR CheckDir: seqArchR.Rcheck Warnings: NA