Package: seqArchR Version: 1.14.0 Command: /Library/Frameworks/R.framework/Resources/bin/R CMD build --keep-empty-dirs --no-resave-data seqArchR StartedAt: 2025-11-06 17:43:17 -0500 (Thu, 06 Nov 2025) EndedAt: 2025-11-06 17:43:35 -0500 (Thu, 06 Nov 2025) EllapsedTime: 18.2 seconds RetCode: 0 Status: OK PackageFile: seqArchR_1.14.0.tar.gz PackageFileSize: 4.767 MiB