Package: seq.hotSPOT Version: 1.10.0 Command: /Library/Frameworks/R.framework/Resources/bin/R CMD INSTALL seq.hotSPOT StartedAt: 2025-11-17 16:52:44 -0500 (Mon, 17 Nov 2025) EndedAt: 2025-11-17 16:52:51 -0500 (Mon, 17 Nov 2025) EllapsedTime: 7.0 seconds RetCode: 0 Status: OK