Package: seq.hotSPOT Version: 1.10.0 Command: /Library/Frameworks/R.framework/Resources/bin/R CMD build --keep-empty-dirs --no-resave-data seq.hotSPOT StartedAt: 2025-11-18 02:11:40 -0500 (Tue, 18 Nov 2025) EndedAt: 2025-11-18 02:11:57 -0500 (Tue, 18 Nov 2025) EllapsedTime: 17.1 seconds RetCode: 0 Status: OK PackageFile: seq.hotSPOT_1.10.0.tar.gz PackageFileSize: 1.401 MiB