Package: semisup Version: 1.34.0 Command: /home/biocbuild/bbs-3.22-bioc/R/bin/R CMD build --keep-empty-dirs --no-resave-data --md5 semisup StartedAt: 2025-11-06 20:01:13 -0500 (Thu, 06 Nov 2025) EndedAt: 2025-11-06 20:01:21 -0500 (Thu, 06 Nov 2025) EllapsedTime: 8.0 seconds RetCode: 0 Status: OK PackageFile: semisup_1.34.0.tar.gz PackageFileSize: 307.7 KiB