Package: selectKSigs Version: 1.22.0 Command: /home/biocbuild/R/R/bin/R CMD INSTALL selectKSigs StartedAt: 2025-11-17 22:11:06 -0000 (Mon, 17 Nov 2025) EndedAt: 2025-11-17 22:11:07 -0000 (Mon, 17 Nov 2025) EllapsedTime: 1.0 seconds RetCode: 1 Status: ERROR