Package: selectKSigs Version: 1.22.0 Command: /home/biocbuild/bbs-3.22-bioc/R/bin/R CMD INSTALL selectKSigs StartedAt: 2025-11-09 16:03:43 -0500 (Sun, 09 Nov 2025) EndedAt: 2025-11-09 16:03:58 -0500 (Sun, 09 Nov 2025) EllapsedTime: 15.2 seconds RetCode: 0 Status: OK