Package: segmenter Version: 1.16.0 Command: /home/biocbuild/bbs-3.22-bioc/R/bin/R CMD check --install=check:segmenter.install-out.txt --library=/home/biocbuild/bbs-3.22-bioc/R/site-library --timings segmenter_1.16.0.tar.gz StartedAt: 2025-11-10 04:11:01 -0500 (Mon, 10 Nov 2025) EndedAt: 2025-11-10 04:25:27 -0500 (Mon, 10 Nov 2025) EllapsedTime: 865.9 seconds RetCode: 0 Status: OK CheckDir: segmenter.Rcheck Warnings: 0