Package: sechm Version: 1.16.0 Command: E:\biocbuild\bbs-3.21-bioc\R\bin\R.exe CMD check --no-multiarch --install=check:sechm.install-out.txt --library=E:\biocbuild\bbs-3.21-bioc\R\library --no-vignettes --timings sechm_1.16.0.tar.gz StartedAt: 2025-08-15 06:46:45 -0400 (Fri, 15 Aug 2025) EndedAt: 2025-08-15 06:50:24 -0400 (Fri, 15 Aug 2025) EllapsedTime: 219.0 seconds RetCode: 0 Status: OK CheckDir: sechm.Rcheck Warnings: 0