Package: seahtrue Version: 1.3.0 Command: /home/biocbuild/R/R/bin/R CMD build --keep-empty-dirs --no-resave-data seahtrue StartedAt: 2025-10-21 03:04:08 -0000 (Tue, 21 Oct 2025) EndedAt: 2025-10-21 03:04:09 -0000 (Tue, 21 Oct 2025) EllapsedTime: 1.0 seconds RetCode: 1 Status: ERROR PackageFile: None PackageFileSize: NA