Package: seahtrue Version: 1.4.0 Command: /home/biocbuild/bbs-3.22-bioc/R/bin/R CMD INSTALL seahtrue StartedAt: 2025-11-17 17:03:38 -0500 (Mon, 17 Nov 2025) EndedAt: 2025-11-17 17:03:46 -0500 (Mon, 17 Nov 2025) EllapsedTime: 8.0 seconds RetCode: 0 Status: OK