Package: scviR Version: 1.9.13 Command: /home/biocbuild/R/R/bin/R CMD build --keep-empty-dirs --no-resave-data scviR StartedAt: 2025-10-21 03:03:34 -0000 (Tue, 21 Oct 2025) EndedAt: 2025-10-21 03:33:18 -0000 (Tue, 21 Oct 2025) EllapsedTime: 1783.7 seconds RetCode: 0 Status: OK PackageFile: scviR_1.9.13.tar.gz PackageFileSize: 2.876 MiB