Package: scviR Version: 1.10.0 Command: /home/biocbuild/bbs-3.22-bioc/R/bin/R CMD INSTALL scviR StartedAt: 2025-11-06 15:57:24 -0500 (Thu, 06 Nov 2025) EndedAt: 2025-11-06 15:57:55 -0500 (Thu, 06 Nov 2025) EllapsedTime: 31.6 seconds RetCode: 0 Status: OK