Package: scviR Version: 1.10.0 Command: /Library/Frameworks/R.framework/Resources/bin/R CMD INSTALL scviR StartedAt: 2025-11-09 15:29:42 -0500 (Sun, 09 Nov 2025) EndedAt: 2025-11-09 15:29:54 -0500 (Sun, 09 Nov 2025) EllapsedTime: 12.5 seconds RetCode: 0 Status: OK