Package: scviR Version: 1.10.0 Command: /Library/Frameworks/R.framework/Resources/bin/R CMD build --keep-empty-dirs --no-resave-data scviR StartedAt: 2025-11-09 17:44:39 -0500 (Sun, 09 Nov 2025) EndedAt: 2025-11-09 18:24:39 -0500 (Sun, 09 Nov 2025) EllapsedTime: 2400.0 seconds RetCode: None Status: TIMEOUT PackageFile: None PackageFileSize: NA