Package: scuttle Version: 1.20.0 Command: /Library/Frameworks/R.framework/Resources/bin/R CMD build --keep-empty-dirs --no-resave-data scuttle StartedAt: 2025-11-09 17:44:30 -0500 (Sun, 09 Nov 2025) EndedAt: 2025-11-09 17:45:37 -0500 (Sun, 09 Nov 2025) EllapsedTime: 66.8 seconds RetCode: 0 Status: OK PackageFile: scuttle_1.20.0.tar.gz PackageFileSize: 1006 KiB