Package: screenCounter Version: 1.8.0 Command: /home/biocbuild/bbs-3.21-bioc/R/bin/R CMD INSTALL screenCounter StartedAt: 2025-10-15 15:17:38 -0400 (Wed, 15 Oct 2025) EndedAt: 2025-10-15 15:19:06 -0400 (Wed, 15 Oct 2025) EllapsedTime: 88.1 seconds RetCode: 0 Status: OK