Package: screenCounter Version: 1.8.0 Command: /home/biocbuild/bbs-3.21-bioc/R/bin/R CMD build --keep-empty-dirs --no-resave-data screenCounter StartedAt: 2025-10-15 19:47:08 -0400 (Wed, 15 Oct 2025) EndedAt: 2025-10-15 19:48:54 -0400 (Wed, 15 Oct 2025) EllapsedTime: 106.0 seconds RetCode: 0 Status: OK PackageFile: screenCounter_1.8.0.tar.gz PackageFileSize: 292.5 KiB