Package: screenCounter Version: 1.8.0 Command: rm -rf screenCounter.buildbin-libdir && mkdir screenCounter.buildbin-libdir && /Users/biocbuild/BBS/utils/build-universal.sh screenCounter_1.8.0.tar.gz /Library/Frameworks/R.framework/Resources/bin/R screenCounter.buildbin-libdir StartedAt: 2025-10-14 14:44:26 -0400 (Tue, 14 Oct 2025) EndedAt: 2025-10-14 14:47:49 -0400 (Tue, 14 Oct 2025) EllapsedTime: 203.4 seconds RetCode: 0 Status: OK PackageFile: screenCounter_1.8.0.tgz PackageFileSize: 540.6 KiB