Package: screenCounter Version: 1.8.0 Command: /Library/Frameworks/R.framework/Resources/bin/R CMD check --install=check:screenCounter.install-out.txt --library=/Library/Frameworks/R.framework/Resources/library --no-vignettes --timings screenCounter_1.8.0.tar.gz StartedAt: 2025-10-15 11:52:11 -0400 (Wed, 15 Oct 2025) EndedAt: 2025-10-15 11:55:20 -0400 (Wed, 15 Oct 2025) EllapsedTime: 188.8 seconds RetCode: 0 Status: OK CheckDir: screenCounter.Rcheck Warnings: 0