Package: screenCounter Version: 1.8.0 Command: rm -rf screenCounter.buildbin-libdir && mkdir screenCounter.buildbin-libdir && /Users/biocbuild/BBS/utils/build-universal.sh screenCounter_1.8.0.tar.gz /Library/Frameworks/R.framework/Resources/bin/R screenCounter.buildbin-libdir StartedAt: 2025-10-15 20:25:16 -0400 (Wed, 15 Oct 2025) EndedAt: 2025-10-15 20:26:46 -0400 (Wed, 15 Oct 2025) EllapsedTime: 89.9 seconds RetCode: 0 Status: OK PackageFile: screenCounter_1.8.0.tgz PackageFileSize: 527.5 KiB