Package: scrapper Version: 1.4.0 Command: /home/biocbuild/bbs-3.22-bioc/R/bin/R CMD INSTALL scrapper StartedAt: 2025-11-20 16:08:21 -0500 (Thu, 20 Nov 2025) EndedAt: 2025-11-20 16:15:24 -0500 (Thu, 20 Nov 2025) EllapsedTime: 423.4 seconds RetCode: 0 Status: OK