Package: scran Version: 1.37.0 Command: /home/biocbuild/R/R/bin/R CMD check --install=check:scran.install-out.txt --library=/home/biocbuild/R/R/site-library --no-vignettes --timings scran_1.37.0.tar.gz StartedAt: 2025-10-17 13:25:34 -0000 (Fri, 17 Oct 2025) EndedAt: 2025-10-17 13:40:56 -0000 (Fri, 17 Oct 2025) EllapsedTime: 922.5 seconds RetCode: 0 Status: WARNINGS CheckDir: scran.Rcheck Warnings: 1