Package: scoup Version: 1.2.0 Command: chmod a+r scoup -R && E:\biocbuild\bbs-3.21-bioc\R\bin\R.exe CMD build --keep-empty-dirs --no-resave-data scoup StartedAt: 2025-08-14 22:04:20 -0400 (Thu, 14 Aug 2025) EndedAt: 2025-08-14 22:05:04 -0400 (Thu, 14 Aug 2025) EllapsedTime: 44.1 seconds RetCode: 0 Status: OK PackageFile: scoup_1.2.0.tar.gz PackageFileSize: 334.7 KiB