Package: scoup Version: 1.2.0 Command: rm -rf scoup.buildbin-libdir && mkdir scoup.buildbin-libdir && E:\biocbuild\bbs-3.21-bioc\R\bin\R.exe CMD INSTALL --build --library=scoup.buildbin-libdir scoup_1.2.0.tar.gz StartedAt: 2025-08-15 10:15:08 -0400 (Fri, 15 Aug 2025) EndedAt: 2025-08-15 10:15:58 -0400 (Fri, 15 Aug 2025) EllapsedTime: 50.2 seconds RetCode: 0 Status: OK PackageFile: scoup_1.2.0.zip PackageFileSize: 634 KiB