Package: scoreInvHap Version: 1.32.0 Command: /Library/Frameworks/R.framework/Resources/bin/R CMD INSTALL scoreInvHap StartedAt: 2025-11-20 16:58:13 -0500 (Thu, 20 Nov 2025) EndedAt: 2025-11-20 16:59:40 -0500 (Thu, 20 Nov 2025) EllapsedTime: 87.5 seconds RetCode: 0 Status: OK