Package: scoreInvHap Version: 1.32.0 Command: /Library/Frameworks/R.framework/Resources/bin/R CMD check --install=check:scoreInvHap.install-out.txt --library=/Library/Frameworks/R.framework/Resources/library --no-vignettes --timings scoreInvHap_1.32.0.tar.gz StartedAt: 2025-11-21 11:21:48 -0500 (Fri, 21 Nov 2025) EndedAt: 2025-11-21 11:31:28 -0500 (Fri, 21 Nov 2025) EllapsedTime: 579.2 seconds RetCode: 0 Status: OK CheckDir: scoreInvHap.Rcheck Warnings: 0