Package: scoreInvHap Version: 1.32.0 Command: /Library/Frameworks/R.framework/Resources/bin/R CMD build --keep-empty-dirs --no-resave-data scoreInvHap StartedAt: 2025-11-20 23:35:44 -0500 (Thu, 20 Nov 2025) EndedAt: 2025-11-20 23:38:07 -0500 (Thu, 20 Nov 2025) EllapsedTime: 143.9 seconds RetCode: 0 Status: OK PackageFile: scoreInvHap_1.32.0.tar.gz PackageFileSize: 1.037 MiB