Package: scone Version: 1.32.1 Command: rm -rf scone.buildbin-libdir && mkdir scone.buildbin-libdir && E:\biocbuild\bbs-3.21-bioc\R\bin\R.exe CMD INSTALL --build --library=scone.buildbin-libdir scone_1.32.1.tar.gz StartedAt: 2025-08-15 10:14:56 -0400 (Fri, 15 Aug 2025) EndedAt: 2025-08-15 10:16:25 -0400 (Fri, 15 Aug 2025) EllapsedTime: 89.4 seconds RetCode: 0 Status: OK PackageFile: scone_1.32.1.zip PackageFileSize: 1.016 MiB