Package: scone Version: 1.32.1 Command: /Library/Frameworks/R.framework/Resources/bin/R CMD check --install=check:scone.install-out.txt --library=/Library/Frameworks/R.framework/Resources/library --no-vignettes --timings scone_1.32.1.tar.gz StartedAt: 2025-10-15 11:37:17 -0400 (Wed, 15 Oct 2025) EndedAt: 2025-10-15 11:48:43 -0400 (Wed, 15 Oct 2025) EllapsedTime: 685.3 seconds RetCode: 0 Status: OK CheckDir: scone.Rcheck Warnings: 0