Package: scone Version: 1.32.1 Command: /Library/Frameworks/R.framework/Resources/bin/R CMD build --keep-empty-dirs --no-resave-data scone StartedAt: 2025-10-14 08:50:38 -0400 (Tue, 14 Oct 2025) EndedAt: 2025-10-14 08:53:57 -0400 (Tue, 14 Oct 2025) EllapsedTime: 198.4 seconds RetCode: 0 Status: OK PackageFile: scone_1.32.1.tar.gz PackageFileSize: 1.867 MiB