Package: scmap Version: 1.31.0 Command: rm -rf scmap.buildbin-libdir && mkdir scmap.buildbin-libdir && F:\biocbuild\bbs-3.22-bioc\R\bin\R.exe CMD INSTALL --build --library=scmap.buildbin-libdir scmap_1.31.0.tar.gz StartedAt: 2025-08-15 11:15:37 -0400 (Fri, 15 Aug 2025) EndedAt: 2025-08-15 11:16:33 -0400 (Fri, 15 Aug 2025) EllapsedTime: 55.8 seconds RetCode: 0 Status: OK PackageFile: scmap_1.31.0.zip PackageFileSize: 3.387 MiB