Package: scifer Version: 1.12.0 Command: /home/biocbuild/R/R/bin/R CMD INSTALL scifer StartedAt: 2025-11-17 22:00:08 -0000 (Mon, 17 Nov 2025) EndedAt: 2025-11-17 22:00:29 -0000 (Mon, 17 Nov 2025) EllapsedTime: 21.1 seconds RetCode: 0 Status: OK