Package: scifer Version: 1.12.0 Command: /home/biocbuild/R/R/bin/R CMD check --install=check:scifer.install-out.txt --library=/home/biocbuild/R/R/site-library --no-vignettes --timings scifer_1.12.0.tar.gz StartedAt: 2025-11-18 14:49:08 -0000 (Tue, 18 Nov 2025) EndedAt: 2025-11-18 15:02:01 -0000 (Tue, 18 Nov 2025) EllapsedTime: 773.4 seconds RetCode: 0 Status: OK CheckDir: scifer.Rcheck Warnings: 0