Package: scifer Version: 1.12.0 Command: /home/biocbuild/R/R/bin/R CMD build --keep-empty-dirs --no-resave-data scifer StartedAt: 2025-11-18 04:53:18 -0000 (Tue, 18 Nov 2025) EndedAt: 2025-11-18 04:55:33 -0000 (Tue, 18 Nov 2025) EllapsedTime: 135.1 seconds RetCode: 0 Status: OK PackageFile: scifer_1.12.0.tar.gz PackageFileSize: 1.218 MiB