Package: scider Version: 1.6.0 Command: rm -rf scider.buildbin-libdir && mkdir scider.buildbin-libdir && E:\biocbuild\bbs-3.21-bioc\R\bin\R.exe CMD INSTALL --build --library=scider.buildbin-libdir scider_1.6.0.tar.gz StartedAt: 2025-08-15 10:14:11 -0400 (Fri, 15 Aug 2025) EndedAt: 2025-08-15 10:14:53 -0400 (Fri, 15 Aug 2025) EllapsedTime: 41.8 seconds RetCode: 0 Status: OK PackageFile: scider_1.6.0.zip PackageFileSize: 1.826 MiB