Package: schex Version: 1.22.0 Command: /home/biocbuild/R/R/bin/R CMD INSTALL schex StartedAt: 2025-09-18 20:35:18 -0000 (Thu, 18 Sep 2025) EndedAt: 2025-09-18 20:35:55 -0000 (Thu, 18 Sep 2025) EllapsedTime: 36.9 seconds RetCode: 0 Status: OK