Package: sccomp Version: 2.0.0 Command: /Library/Frameworks/R.framework/Resources/bin/R CMD check --install=check:sccomp.install-out.txt --library=/Library/Frameworks/R.framework/Resources/library --no-vignettes --timings sccomp_2.0.0.tar.gz StartedAt: 2025-04-21 21:27:59 -0400 (Mon, 21 Apr 2025) EndedAt: 2025-04-21 21:29:17 -0400 (Mon, 21 Apr 2025) EllapsedTime: 78.9 seconds RetCode: 0 Status: OK CheckDir: sccomp.Rcheck Warnings: 0